BEGIN:VCALENDAR
VERSION:2.0
PRODID:-//Ristorante Villa Taticchi Ponte Pattoli Perugia - ECPv6.11.0.1//NONSGML v1.0//EN
CALSCALE:GREGORIAN
METHOD:PUBLISH
X-ORIGINAL-URL:https://www.villataticchi.it
X-WR-CALDESC:Eventi per Ristorante Villa Taticchi Ponte Pattoli Perugia
REFRESH-INTERVAL;VALUE=DURATION:PT1H
X-Robots-Tag:noindex
X-PUBLISHED-TTL:PT1H
BEGIN:VTIMEZONE
TZID:Europe/Rome
BEGIN:DAYLIGHT
TZOFFSETFROM:+0100
TZOFFSETTO:+0200
TZNAME:CEST
DTSTART:20240331T010000
END:DAYLIGHT
BEGIN:STANDARD
TZOFFSETFROM:+0200
TZOFFSETTO:+0100
TZNAME:CET
DTSTART:20241027T010000
END:STANDARD
BEGIN:DAYLIGHT
TZOFFSETFROM:+0100
TZOFFSETTO:+0200
TZNAME:CEST
DTSTART:20250330T010000
END:DAYLIGHT
BEGIN:STANDARD
TZOFFSETFROM:+0200
TZOFFSETTO:+0100
TZNAME:CET
DTSTART:20251026T010000
END:STANDARD
BEGIN:DAYLIGHT
TZOFFSETFROM:+0100
TZOFFSETTO:+0200
TZNAME:CEST
DTSTART:20260329T010000
END:DAYLIGHT
BEGIN:STANDARD
TZOFFSETFROM:+0200
TZOFFSETTO:+0100
TZNAME:CET
DTSTART:20261025T010000
END:STANDARD
BEGIN:DAYLIGHT
TZOFFSETFROM:+0100
TZOFFSETTO:+0200
TZNAME:CEST
DTSTART:20270328T010000
END:DAYLIGHT
BEGIN:STANDARD
TZOFFSETFROM:+0200
TZOFFSETTO:+0100
TZNAME:CET
DTSTART:20271031T010000
END:STANDARD
BEGIN:DAYLIGHT
TZOFFSETFROM:+0100
TZOFFSETTO:+0200
TZNAME:CEST
DTSTART:20280326T010000
END:DAYLIGHT
BEGIN:STANDARD
TZOFFSETFROM:+0200
TZOFFSETTO:+0100
TZNAME:CET
DTSTART:20281029T010000
END:STANDARD
BEGIN:DAYLIGHT
TZOFFSETFROM:+0100
TZOFFSETTO:+0200
TZNAME:CEST
DTSTART:20290325T010000
END:DAYLIGHT
BEGIN:STANDARD
TZOFFSETFROM:+0200
TZOFFSETTO:+0100
TZNAME:CET
DTSTART:20291028T010000
END:STANDARD
BEGIN:DAYLIGHT
TZOFFSETFROM:+0100
TZOFFSETTO:+0200
TZNAME:CEST
DTSTART:20300331T010000
END:DAYLIGHT
BEGIN:STANDARD
TZOFFSETFROM:+0200
TZOFFSETTO:+0100
TZNAME:CET
DTSTART:20301027T010000
END:STANDARD
BEGIN:DAYLIGHT
TZOFFSETFROM:+0100
TZOFFSETTO:+0200
TZNAME:CEST
DTSTART:20310330T010000
END:DAYLIGHT
BEGIN:STANDARD
TZOFFSETFROM:+0200
TZOFFSETTO:+0100
TZNAME:CET
DTSTART:20311026T010000
END:STANDARD
BEGIN:DAYLIGHT
TZOFFSETFROM:+0100
TZOFFSETTO:+0200
TZNAME:CEST
DTSTART:20320328T010000
END:DAYLIGHT
BEGIN:STANDARD
TZOFFSETFROM:+0200
TZOFFSETTO:+0100
TZNAME:CET
DTSTART:20321031T010000
END:STANDARD
BEGIN:DAYLIGHT
TZOFFSETFROM:+0100
TZOFFSETTO:+0200
TZNAME:CEST
DTSTART:20330327T010000
END:DAYLIGHT
BEGIN:STANDARD
TZOFFSETFROM:+0200
TZOFFSETTO:+0100
TZNAME:CET
DTSTART:20331030T010000
END:STANDARD
BEGIN:DAYLIGHT
TZOFFSETFROM:+0100
TZOFFSETTO:+0200
TZNAME:CEST
DTSTART:20340326T010000
END:DAYLIGHT
BEGIN:STANDARD
TZOFFSETFROM:+0200
TZOFFSETTO:+0100
TZNAME:CET
DTSTART:20341029T010000
END:STANDARD
BEGIN:DAYLIGHT
TZOFFSETFROM:+0100
TZOFFSETTO:+0200
TZNAME:CEST
DTSTART:20350325T010000
END:DAYLIGHT
BEGIN:STANDARD
TZOFFSETFROM:+0200
TZOFFSETTO:+0100
TZNAME:CET
DTSTART:20351028T010000
END:STANDARD
BEGIN:DAYLIGHT
TZOFFSETFROM:+0100
TZOFFSETTO:+0200
TZNAME:CEST
DTSTART:20360330T010000
END:DAYLIGHT
BEGIN:STANDARD
TZOFFSETFROM:+0200
TZOFFSETTO:+0100
TZNAME:CET
DTSTART:20361026T010000
END:STANDARD
BEGIN:DAYLIGHT
TZOFFSETFROM:+0100
TZOFFSETTO:+0200
TZNAME:CEST
DTSTART:20370329T010000
END:DAYLIGHT
BEGIN:STANDARD
TZOFFSETFROM:+0200
TZOFFSETTO:+0100
TZNAME:CET
DTSTART:20371025T010000
END:STANDARD
END:VTIMEZONE
BEGIN:VEVENT
DTSTART;TZID=Europe/Rome:20241204T000000
DTEND;TZID=Europe/Rome:20331204T235900
DTSTAMP:20260421T034436
CREATED:20241204T113404Z
LAST-MODIFIED:20251203T165926Z
UID:2625-1733270400-2017353540@www.villataticchi.it
SUMMARY:Voucher regalo per un pranzo o una  cena  a Villa Taticchi
DESCRIPTION:Potrete acquistare 2 tipi di voucher dal valore di 72\,00 o di 120\,00 euro . Per utilizzarli basterà scegliere una data prenotare un tavolo e venire a consumarli . E’ un ottima occasione per un bellissimo regalo di compleanno o natale. \nIl buono regalo avrà validità un anno.
URL:https://www.villataticchi.it/eventovilla/cena-romantica-per-due/
LOCATION:Villa Taticchi\, Strada Fratticiola\, 2\, Ponte Pattoli\, Perugia
CATEGORIES:Esperienze da vivere
ATTACH;FMTTYPE=image/png:https://www.villataticchi.it/wp-content/uploads/2025/11/buono-cena-romantica.png
ORGANIZER;CN="Villa Taticchi":MAILTO:info@villataticchi.it
END:VEVENT
BEGIN:VEVENT
DTSTART;TZID=Europe/Rome:20241204T080000
DTEND;TZID=Europe/Rome:20501204T170000
DTSTAMP:20260421T034436
CREATED:20241204T155001Z
LAST-MODIFIED:20251203T165812Z
UID:2637-1733299200-2553786000@www.villataticchi.it
SUMMARY:Una lezione di cucina con Chef Francesca
DESCRIPTION:Dalla durata di circa 2\,5 ore in giorno e orario da concordare con la chef preventivamente telefonando al 075694503. Lezioni di antipasto e la pasta fatta in casa (almeno che non si voglia trattare qualcos’altro richiedendolo prima). Al termine della lezione gli ospiti potranno assaggiare quello che hanno preparato a tavola degustando un calice di vino.
URL:https://www.villataticchi.it/eventovilla/una-lezione-di-cucina-con-chef-francesca/
LOCATION:Villa Taticchi\, Strada Fratticiola\, 2\, Ponte Pattoli\, Perugia
CATEGORIES:Esperienze da vivere
ATTACH;FMTTYPE=image/png:https://www.villataticchi.it/wp-content/uploads/2024/12/cooking-class-villa-taticchi.png
ORGANIZER;CN="Villa Taticchi":MAILTO:info@villataticchi.it
END:VEVENT
BEGIN:VEVENT
DTSTART;TZID=Europe/Rome:20251105T080000
DTEND;TZID=Europe/Rome:20260228T170000
DTSTAMP:20260421T034436
CREATED:20251105T223311Z
LAST-MODIFIED:20251105T223557Z
UID:3414-1762329600-1772298000@www.villataticchi.it
SUMMARY:Buono regalo di Natale al ristorante Villa Taticchi
DESCRIPTION:Regala a Natale o per un occasione speciale  questo buono che darà diritto a spendere €100 presso il nostro locale in qualsiasi occasione . \nValidità un anno dall’ acquisto.
URL:https://www.villataticchi.it/eventovilla/buono-regalo-di-natale/
LOCATION:Villa Taticchi\, Strada Fratticiola\, 2\, Ponte Pattoli\, Perugia
CATEGORIES:Esperienze da vivere
ATTACH;FMTTYPE=image/png:https://www.villataticchi.it/wp-content/uploads/2025/11/buono-cena-romantica.png
ORGANIZER;CN="Villa Taticchi":MAILTO:info@villataticchi.it
END:VEVENT
BEGIN:VEVENT
DTSTART;TZID=Europe/Rome:20251106T080000
DTEND;TZID=Europe/Rome:20260228T170000
DTSTAMP:20260421T034436
CREATED:20251106T164054Z
LAST-MODIFIED:20251230T103001Z
UID:3422-1762416000-1772298000@www.villataticchi.it
SUMMARY:Regala cena con delitto
DESCRIPTION:-Regala cena con delitto a Villa Taticchi € 58\,00 \nSul nostro sito potrai acquistare un buono da regalare a Natale per assistere alla meravigliosa cena con delitto di Villa Taticchi insieme alla Sarabanda Teatro. \nIl buono avrà valore per un anno ma si dovrà comunque fare la prenotazione per la serata scelta. Nella stagione 2025 2026 ci saranno almeno 10 serate tra cui scegliere. \n  \nAll acquisto riceverete un qr code che dovrete utilizzare all ingresso della serata.
URL:https://www.villataticchi.it/eventovilla/regala-cena-con-delitto/
LOCATION:Villa Taticchi\, Strada Fratticiola\, 2\, Ponte Pattoli\, Perugia
CATEGORIES:Esperienze da vivere
ATTACH;FMTTYPE=image/png:https://www.villataticchi.it/wp-content/uploads/2025/11/cena-con-delitto-regala.png
ORGANIZER;CN="Villa Taticchi":MAILTO:info@villataticchi.it
END:VEVENT
END:VCALENDAR