BEGIN:VCALENDAR
VERSION:2.0
PRODID:-//Ristorante Villa Taticchi Ponte Pattoli Perugia - ECPv6.11.0.1//NONSGML v1.0//EN
CALSCALE:GREGORIAN
METHOD:PUBLISH
X-ORIGINAL-URL:https://www.villataticchi.it
X-WR-CALDESC:Eventi per Ristorante Villa Taticchi Ponte Pattoli Perugia
REFRESH-INTERVAL;VALUE=DURATION:PT1H
X-Robots-Tag:noindex
X-PUBLISHED-TTL:PT1H
BEGIN:VTIMEZONE
TZID:Europe/Rome
BEGIN:DAYLIGHT
TZOFFSETFROM:+0100
TZOFFSETTO:+0200
TZNAME:CEST
DTSTART:20240331T010000
END:DAYLIGHT
BEGIN:STANDARD
TZOFFSETFROM:+0200
TZOFFSETTO:+0100
TZNAME:CET
DTSTART:20241027T010000
END:STANDARD
END:VTIMEZONE
BEGIN:VEVENT
DTSTART;TZID=Europe/Rome:20240204T190000
DTEND;TZID=Europe/Rome:20240205T190000
DTSTAMP:20260423T093308
CREATED:20240117T150233Z
LAST-MODIFIED:20240117T150233Z
UID:2272-1707073200-1707159600@www.villataticchi.it
SUMMARY:Festa di Carnevale
DESCRIPTION:Domenica 4 Febbraio 2024 alle ore 19 \nCena e festa di carnevale in maschera ” Film Cartoni e Favole” \n \nAperiSpritz di benvenuto  \nMenù della cena a buffet con prenotazione tavoli \n\nPizzette napoletane\nFrittini di verdure\n\n\nFocaccia con scarola uvetta e olive\nPolentine grigliate con funghi\n\n\nMezze patate piccanti al forno\nInsalata di scarola con semi \, finocchi e arance\n\n\nCostine di maiale al sugo \nCous cous di verdure\n\n\nPennette alla vodka \nSpiedini di salsiccia e torta al testo\n\n\nMeringhe con crema al cioccolato e frutti rossi\nStruffoli\nFrappe\nCestini di agrumi\n\nBeverage: Acqua\, Vino bianco grechetto e rosso igt Montefalco. \nMusica by vinile Fabrizio Mosci \nanni 60 70 80  \nAnimazione by Jalila e Erika \nPremi per la maschera più bella\n \nPer info e prenotazione tavoli € 40 \nBimbi da 2 a 10 anni € 18
URL:https://www.villataticchi.it/eventovilla/festa-di-carnevale/
LOCATION:Villa Taticchi\, Strada Fratticiola\, 2\, Ponte Pattoli\, Perugia
ATTACH;FMTTYPE=image/jpeg:https://www.villataticchi.it/wp-content/uploads/2024/01/4-febbraio.jpg
ORGANIZER;CN="Villa Taticchi":MAILTO:info@villataticchi.it
END:VEVENT
END:VCALENDAR