BEGIN:VCALENDAR
VERSION:2.0
PRODID:-//Ristorante Villa Taticchi Ponte Pattoli Perugia - ECPv6.11.0.1//NONSGML v1.0//EN
CALSCALE:GREGORIAN
METHOD:PUBLISH
X-WR-CALNAME:Ristorante Villa Taticchi Ponte Pattoli Perugia
X-ORIGINAL-URL:https://www.villataticchi.it
X-WR-CALDESC:Eventi per Ristorante Villa Taticchi Ponte Pattoli Perugia
REFRESH-INTERVAL;VALUE=DURATION:PT1H
X-Robots-Tag:noindex
X-PUBLISHED-TTL:PT1H
BEGIN:VTIMEZONE
TZID:Europe/Rome
BEGIN:DAYLIGHT
TZOFFSETFROM:+0100
TZOFFSETTO:+0200
TZNAME:CEST
DTSTART:20260329T010000
END:DAYLIGHT
BEGIN:STANDARD
TZOFFSETFROM:+0200
TZOFFSETTO:+0100
TZNAME:CET
DTSTART:20261025T010000
END:STANDARD
END:VTIMEZONE
BEGIN:VEVENT
DTSTART;TZID=Europe/Rome:20260522T203000
DTEND;TZID=Europe/Rome:20260522T233000
DTSTAMP:20260425T123546
CREATED:20260413T081725Z
LAST-MODIFIED:20260413T145547Z
UID:3979-1779481800-1779492600@www.villataticchi.it
SUMMARY:Cena con delitto 22 maggio 2026
DESCRIPTION:Titolo dello spettacolo\n Mors Tua Vita Mea\nUna cena e uno spettacolo esilarante\, divertente\, intrigante\, diverso ma soprattutto dove ti sentirai protagonista! \n Aperitivo\n Ricchissimo antipasto finger food\n Risotto  agli asparagie fragole\n Cosciotto di maiale alle erbette aromatiche di primavera con olio evo\n Patate e verdure ripassate.\n Panna cotta alle fragole.\n Acqua\, vini e caffè \nCosto €55 tutto compreso. Posti limitati\nDress code :no \n\nPer info e prenotazioni telefonare al 075694503
URL:https://www.villataticchi.it/eventovilla/cena-con-delitto-10/
LOCATION:Villa Taticchi\, Strada Fratticiola\, 2\, Ponte Pattoli\, Perugia
CATEGORIES:Eventi in Villa
ATTACH;FMTTYPE=image/jpeg:https://www.villataticchi.it/wp-content/uploads/2025/10/cena-delitto-generica.jpg
ORGANIZER;CN="Villa Taticchi":MAILTO:info@villataticchi.it
END:VEVENT
END:VCALENDAR