BEGIN:VCALENDAR
VERSION:2.0
PRODID:-//Ristorante Villa Taticchi Ponte Pattoli Perugia - ECPv6.11.0.1//NONSGML v1.0//EN
CALSCALE:GREGORIAN
METHOD:PUBLISH
X-WR-CALNAME:Ristorante Villa Taticchi Ponte Pattoli Perugia
X-ORIGINAL-URL:https://www.villataticchi.it
X-WR-CALDESC:Eventi per Ristorante Villa Taticchi Ponte Pattoli Perugia
REFRESH-INTERVAL;VALUE=DURATION:PT1H
X-Robots-Tag:noindex
X-PUBLISHED-TTL:PT1H
BEGIN:VTIMEZONE
TZID:Europe/Rome
BEGIN:DAYLIGHT
TZOFFSETFROM:+0100
TZOFFSETTO:+0200
TZNAME:CEST
DTSTART:20260329T010000
END:DAYLIGHT
BEGIN:STANDARD
TZOFFSETFROM:+0200
TZOFFSETTO:+0100
TZNAME:CET
DTSTART:20261025T010000
END:STANDARD
END:VTIMEZONE
BEGIN:VEVENT
DTSTART;TZID=Europe/Rome:20260214T203000
DTEND;TZID=Europe/Rome:20260214T233000
DTSTAMP:20260422T000830
CREATED:20260116T171809Z
LAST-MODIFIED:20260212T114103Z
UID:3768-1771101000-1771111800@www.villataticchi.it
SUMMARY:Cena di San Valentino
DESCRIPTION:La cena più romantica dell anno sta per tornare e Villa Taticchi si prepara all\, evento con un buonissimo menù e una calda atmosfera. Scegli la tua canzone d’amore la trasmetteremo durante la serata e rimarrà la nostra playlist romantica per tutto il 2026!\nIl menù mai scontato della Chef…Francesca.\nAperitivo di benvenuto afrodisiaco\nCarciofo alla giudia con cuore di baccalà mantecato.(Per vegetariani con formaggio di capra mantecato)\nScrigni agli asparagi con ricotta agrumata\, pancetta croccante e briciole di pane.(Per vegetraiani senza pancetta)\nGuancia di vitellone umbro in lenta cottura brasata al vino rosso e ginepro con farcitura di erbe aromatiche.(Per vegetariani tortino di verza quinoa e ceci con crema di zucca violina)\nSfogliatina di patate alla francese\n“Cuore esotico” Mousse al cioccolato bianco con vellutata al frutto della passione e crumbole al cocco.\nCena per due persone bevande escluse € 100\,00.\nOppure Possibile prenotare alla carta tra i piatti proposti nel menù di San Valentino.\nPossibile riservare anche la camera matrimoniale per due notti compresa sauna e apertivo compresa la cena  e due colazioni a coppia € 380 .\nOppure una notte con cena \, camera matrimoniale bottiglia di spumante e colazione a coppia € 240\,00 .\n\n 
URL:https://www.villataticchi.it/eventovilla/cena-di-san-valentino-o-cena-e-pernottamento/
LOCATION:Villa Taticchi\, Strada Fratticiola\, 2\, Ponte Pattoli\, Perugia
CATEGORIES:Eventi in Villa
ATTACH;FMTTYPE=image/jpeg:https://www.villataticchi.it/wp-content/uploads/2026/01/San-Valentino-Cena-Ristorante-Foto-Romantico-Storia-Instagram-Post-Instagram-1.jpg
ORGANIZER;CN="Villa Taticchi":MAILTO:info@villataticchi.it
END:VEVENT
END:VCALENDAR