BEGIN:VCALENDAR
VERSION:2.0
PRODID:-//Ristorante Villa Taticchi Ponte Pattoli Perugia - ECPv6.11.0.1//NONSGML v1.0//EN
CALSCALE:GREGORIAN
METHOD:PUBLISH
X-WR-CALNAME:Ristorante Villa Taticchi Ponte Pattoli Perugia
X-ORIGINAL-URL:https://www.villataticchi.it
X-WR-CALDESC:Eventi per Ristorante Villa Taticchi Ponte Pattoli Perugia
REFRESH-INTERVAL;VALUE=DURATION:PT1H
X-Robots-Tag:noindex
X-PUBLISHED-TTL:PT1H
BEGIN:VTIMEZONE
TZID:Europe/Rome
BEGIN:DAYLIGHT
TZOFFSETFROM:+0100
TZOFFSETTO:+0200
TZNAME:CEST
DTSTART:20260329T010000
END:DAYLIGHT
BEGIN:STANDARD
TZOFFSETFROM:+0200
TZOFFSETTO:+0100
TZNAME:CET
DTSTART:20261025T010000
END:STANDARD
END:VTIMEZONE
BEGIN:VEVENT
DTSTART;TZID=Europe/Rome:20260215T200000
DTEND;TZID=Europe/Rome:20260215T235900
DTSTAMP:20260423T203803
CREATED:20260131T101908Z
LAST-MODIFIED:20260131T102302Z
UID:3804-1771185600-1771199940@www.villataticchi.it
SUMMARY:Festa di carnevale a Villa Taticchi
DESCRIPTION:🍽️Menù della cena a buffet\n🍕Pizzette napoletane\n🍢Frittini di verdure\n🫓Focaccia con patate\n🥪Polentine grigliate con funghi\n🥟Mezze patate piccanti al forno\n🥗Insalata di scarola con semi \, finocchi e arance\n🍗Spiedini di pollo con prugne pancetta croccante\n🍝Pennette alla vodka\n🍖Spiedini di salsiccia e torta al testo\n🍩Brauni al cioccolato\n🍭Chiacchere\n🥂Beverage: Acqua\, Vino bianco grechetto e rosso \, caffè.\n🎧🎤Musica by performer artist DJ Kill Me Alice\n🧜‍♀️Animazione by Jalila \n🎁Premi per la maschera più bella :\n1° premio cena con delitto per una persona\n2° premio cocktail a scelta\n3° premio cocktail a scelta \n🧜‍♀️🧚‍♀️🧞‍♂️DRESS CODE: MITI\, LEGGENDE\, DÈI\nPer info e prenotazioni :\n🌐 www.villataticchi.it\n📞 075 69 45 03\n🎫Ingresso cena con animazione e musica € 40\n👶Bimbi da 2 a 10 anni € 18\n🍹Ingresso dopo le ore 22:00 con consumazione inclusa € 15
URL:https://www.villataticchi.it/eventovilla/festa-di-carnevale-a-villa-taticchi/
LOCATION:Villa Taticchi\, Strada Fratticiola\, 2\, Ponte Pattoli\, Perugia
CATEGORIES:Eventi in Villa
ATTACH;FMTTYPE=image/jpeg:https://www.villataticchi.it/wp-content/uploads/2026/01/carnevale-2026-.jpg
ORGANIZER;CN="Villa Taticchi":MAILTO:info@villataticchi.it
END:VEVENT
END:VCALENDAR